BEGIN:VCALENDAR
VERSION:2.0
PRODID:-//SCCSA - ECPv4.6.25//NONSGML v1.0//EN
CALSCALE:GREGORIAN
METHOD:PUBLISH
X-WR-CALNAME:SCCSA
X-ORIGINAL-URL:https://www.sportingcarclub.com.au
X-WR-CALDESC:Events for SCCSA
BEGIN:VEVENT
DTSTART;VALUE=DATE:20190210
DTEND;VALUE=DATE:20190211
DTSTAMP:20190228T092701
CREATED:20181219T015321Z
LAST-MODIFIED:20181219T015321Z
UID:27452-1549756800-1549843199@www.sportingcarclub.com.au
SUMMARY:All British Day
DESCRIPTION:The All British Day is an annual display day and picnic for enthusiastic vehicle Club Members to meet and show off their British motor vehicles. It is held in the beautiful Adelaide Hills\, on the second Sunday of February each year. \nThe Sporting Car Club of SA will have a display of members cars\, and encourage any and all members of the club to join us on an excellent day out! \nFor further information please see the All British Day Website. \n
URL:https://www.sportingcarclub.com.au/event/all-british-day/
LOCATION:Echunga Recreation Ground\, Hahndorf Oval\, Hahndorf\, SA\, 5245\, Australia
ORGANIZER;CN="All%20British%20Day":MAILTO:info@allbritishday.com
END:VEVENT
BEGIN:VEVENT
DTSTART;TZID=UTC+0:20190216T080000
DTEND;TZID=UTC+0:20190216T170000
DTSTAMP:20190228T092701
CREATED:20181210T041414Z
LAST-MODIFIED:20181210T041414Z
UID:27291-1550304000-1550336400@www.sportingcarclub.com.au
SUMMARY:SCCSA State Championships Round 1
DESCRIPTION:The State Championships are back for another year! Kicking the five rounds off at Mallala Motorsport Park\, this is sure to be a great event and start of another great year of racing in South Australia! \nFor more information\, please click here. \n
URL:https://www.sportingcarclub.com.au/event/sccsa-state-championships-round-1/
LOCATION:Mallala Motorsport Park
END:VEVENT
BEGIN:VEVENT
DTSTART;VALUE=DATE:20190217
DTEND;VALUE=DATE:20190218
DTSTAMP:20190228T092701
CREATED:20181219T015816Z
LAST-MODIFIED:20181219T015816Z
UID:27463-1550361600-1550447999@www.sportingcarclub.com.au
SUMMARY:Fleurieu Run & Cruise
DESCRIPTION:Watch Wheelspin or BigWeek for further information about this event! \n
URL:https://www.sportingcarclub.com.au/event/fleurieu-run-cruise/
END:VEVENT
BEGIN:VEVENT
DTSTART;VALUE=DATE:20190224
DTEND;VALUE=DATE:20190225
DTSTAMP:20190228T092701
CREATED:20181219T020317Z
LAST-MODIFIED:20181219T020317Z
UID:27465-1550966400-1551052799@www.sportingcarclub.com.au
SUMMARY:Veteran & Vintage Early Bird Run
DESCRIPTION:Watch Wheelspin or BigWeek for further information about this event! \n
URL:https://www.sportingcarclub.com.au/event/veteran-vintage-early-bird-run/
END:VEVENT
BEGIN:VEVENT
DTSTART;TZID=UTC+0:20190227T183000
DTEND;TZID=UTC+0:20190227T210000
DTSTAMP:20190228T092701
CREATED:20190219T235206Z
LAST-MODIFIED:20190219T235206Z
UID:27668-1551292200-1551301200@www.sportingcarclub.com.au
SUMMARY:Todd Hazelwood Meet and Greet
DESCRIPTION:Come and meet Supercars Championship driver Todd Hazelwood at our annual meet and greet night! Todd will be representing Matt Stone Racing along with Aussie Racing Cars driver\, Joel Heinrich. We will potentially have Matt Stone in attendance too. \nCanapes and a drink included in the ticket price and happy hour drinks available throughout the night. The bar opens from 6.30pm! \nTickets are $35 per person and available through the office. Limited number available. \nCall 8373 4899 to book your spot! \n \n
URL:https://www.sportingcarclub.com.au/event/todd-hazelwood-meet-and-greet/
END:VEVENT
BEGIN:VEVENT
DTSTART;TZID=UTC+0:20190301T180000
DTEND;TZID=UTC+0:20190301T213000
DTSTAMP:20190228T092701
CREATED:20190219T234646Z
LAST-MODIFIED:20190219T234646Z
UID:27666-1551463200-1551475800@www.sportingcarclub.com.au
SUMMARY:C & M V8 Night
DESCRIPTION:The Adelaide 500 rolls around again and to celebrate we are hosting the V8 Night! A member’s car will potentially be on stage which is a fully rebuilt V8 race car and another special car to set the scene.\nBar opens at 6:00pm while the meeting starts at 8:00pm and supper will be served on the night.    \n
URL:https://www.sportingcarclub.com.au/event/c-m-v8-night/
END:VEVENT
END:VCALENDAR